BEGIN:VCALENDAR
VERSION:2.0
PRODID:-//wp-events-plugin.com//7.2.3.1//EN
TZID:Europe/Berlin
X-WR-TIMEZONE:Europe/Berlin
BEGIN:VEVENT
UID:113@dorfleben-parsteinsee.de
DTSTART;TZID=Europe/Berlin:20260425T143000
DTEND;TZID=Europe/Berlin:20260425T180000
DTSTAMP:20260312T161027Z
URL:https://dorfleben-parsteinsee.de/termine/ideenwerkstatt-der-land-gesta
 lten/
SUMMARY:Ideenwerkstatt der "Land.Gestalten"
DESCRIPTION:Land.Gestalten lädt zur nächsten Ideenwerkstatt ein. Alle int
 eressierten Bürger\, Engagierten\, Unternehmer\, Vereine und Kulturschaff
 enden aus den Gemeinden\, Kreis BCO sind herzlich eingeladen\, sich zu bet
 eiligen.
ATTACH;FMTTYPE=image/jpeg:https://dorfleben-parsteinsee.de/wp-content/uplo
 ads/landgestalten.png
CATEGORIES:Termine in Lüdersdorf
LOCATION:Tanzsaal Lüdersdorf\, Dorfstr. 28\, Lüdersdorf\, Deutschland
X-APPLE-STRUCTURED-LOCATION;VALUE=URI;X-ADDRESS=Dorfstr. 28\, Lüdersdorf\,
  Deutschland;X-APPLE-RADIUS=100;X-TITLE=Tanzsaal Lüdersdorf:geo:0,0
END:VEVENT
BEGIN:VTIMEZONE
TZID:Europe/Berlin
X-LIC-LOCATION:Europe/Berlin
BEGIN:DAYLIGHT
DTSTART:20260329T030000
TZOFFSETFROM:+0100
TZOFFSETTO:+0200
TZNAME:CEST
END:DAYLIGHT
END:VTIMEZONE
END:VCALENDAR