BEGIN:VCALENDAR
VERSION:2.0
PRODID:-//wp-events-plugin.com//7.2.3.1//EN
TZID:Europe/Berlin
X-WR-TIMEZONE:Europe/Berlin
BEGIN:VEVENT
UID:142@dorfleben-parsteinsee.de
DTSTART;TZID=Europe/Berlin:20260502T140000
DTEND;TZID=Europe/Berlin:20260503T180000
DTSTAMP:20260422T072542Z
URL:https://dorfleben-parsteinsee.de/termine/offenes-atelier-2/
SUMMARY:Offenes Atelier
DESCRIPTION:Einladung zum\nTag des Offenen Ateliers 2026\nAtelier Peter Hey
 n & Faezeh Shakooti
ATTACH;FMTTYPE=image/jpeg:https://dorfleben-parsteinsee.de/wp-content/uplo
 ads/photo_2026-04-22-09.14.05.jpeg
CATEGORIES:Kultur,Offenes Atelier,Termine in Lüdersdorf
LOCATION:Atelier Peter Heyn und Faezeh Shakoori\, Dorfstr. 48\, Lüdersdorf
 \, Deutschland
X-APPLE-STRUCTURED-LOCATION;VALUE=URI;X-ADDRESS=Dorfstr. 48\, Lüdersdorf\,
  Deutschland;X-APPLE-RADIUS=100;X-TITLE=Atelier Peter Heyn und Faezeh Shak
 oori:geo:0,0
END:VEVENT
BEGIN:VTIMEZONE
TZID:Europe/Berlin
X-LIC-LOCATION:Europe/Berlin
BEGIN:DAYLIGHT
DTSTART:20260329T030000
TZOFFSETFROM:+0100
TZOFFSETTO:+0200
TZNAME:CEST
END:DAYLIGHT
END:VTIMEZONE
END:VCALENDAR